BEGIN:VCALENDAR
VERSION:2.0
PRODID:-// - ECPv6.15.20//NONSGML v1.0//EN
CALSCALE:GREGORIAN
METHOD:PUBLISH
X-ORIGINAL-URL:https://lerendbrein.nl
X-WR-CALDESC:Evenementen voor 
REFRESH-INTERVAL;VALUE=DURATION:PT1H
X-Robots-Tag:noindex
X-PUBLISHED-TTL:PT1H
BEGIN:VTIMEZONE
TZID:Europe/Amsterdam
BEGIN:DAYLIGHT
TZOFFSETFROM:+0100
TZOFFSETTO:+0200
TZNAME:CEST
DTSTART:20210328T010000
END:DAYLIGHT
BEGIN:STANDARD
TZOFFSETFROM:+0200
TZOFFSETTO:+0100
TZNAME:CET
DTSTART:20211031T010000
END:STANDARD
BEGIN:DAYLIGHT
TZOFFSETFROM:+0100
TZOFFSETTO:+0200
TZNAME:CEST
DTSTART:20220327T010000
END:DAYLIGHT
BEGIN:STANDARD
TZOFFSETFROM:+0200
TZOFFSETTO:+0100
TZNAME:CET
DTSTART:20221030T010000
END:STANDARD
BEGIN:DAYLIGHT
TZOFFSETFROM:+0100
TZOFFSETTO:+0200
TZNAME:CEST
DTSTART:20230326T010000
END:DAYLIGHT
BEGIN:STANDARD
TZOFFSETFROM:+0200
TZOFFSETTO:+0100
TZNAME:CET
DTSTART:20231029T010000
END:STANDARD
END:VTIMEZONE
BEGIN:VEVENT
DTSTART;TZID=Europe/Amsterdam:20220128T090000
DTEND;TZID=Europe/Amsterdam:20220128T153000
DTSTAMP:20260421T044551
CREATED:20220114T142931Z
LAST-MODIFIED:20220114T142931Z
UID:11377-1643360400-1643383800@lerendbrein.nl
SUMMARY:Incompany Cursus  S.M.A.R.T. Coach | Kentalis Onderwijs Regio Nijmegen e.o.
DESCRIPTION:
URL:https://lerendbrein.nl/cursus/incompany-cursus-s-m-a-r-t-coach-kentalis-onderwijs-regio-nijmegen-e-o/
LOCATION:Kentalis Groesbeek
CATEGORIES:S.M.A.R.T. Coach
ATTACH;FMTTYPE=image/png:https://lerendbrein.nl/wp-content/uploads/2019/12/Level2-e1583165330737.png
END:VEVENT
END:VCALENDAR